BEGIN:VCALENDAR
VERSION:2.0
PRODID:spatie/icalendar-generator
DESCRIPTION:Veranstaltungen von FC St. Pauli Tischfußball
X-WR-CALDESC:Veranstaltungen von FC St. Pauli Tischfußball
REFRESH-INTERVAL;VALUE=DURATION:PT1440M
X-PUBLISHED-TTL:PT1440M
BEGIN:VTIMEZONE
TZID:Europe/Berlin
BEGIN:STANDARD
DTSTART:20241027T030000Z
TZOFFSETFROM:+0200
TZOFFSETTO:+0100
END:STANDARD
BEGIN:DAYLIGHT
DTSTART:20250330T020000Z
TZOFFSETFROM:+0100
TZOFFSETTO:+0200
END:DAYLIGHT
BEGIN:STANDARD
DTSTART:20251026T030000Z
TZOFFSETFROM:+0200
TZOFFSETTO:+0100
END:STANDARD
END:VTIMEZONE
BEGIN:VTIMEZONE
TZID:UTC
BEGIN:STANDARD
DTSTART:20250727T104607Z
TZOFFSETFROM:+0000
TZOFFSETTO:+0000
END:STANDARD
END:VTIMEZONE
BEGIN:VEVENT
UID:39-2
DTSTAMP:20260423T104607Z
SUMMARY:Absolute Gigant*innen Kickerturnier
LOCATION:FC St. Pauli Clubheim Harald-Stender-Platz 1  Hamburg Hamburg 2035
 9
ORGANIZER;CN=FCSP Tischfussball:MAILTO:admin@fctpauli-kickern.de
RRULE:FREQ=WEEKLY;UNTIL=20250730T000000Z
DTSTART;TZID=Europe/Berlin:20250716T200000
DTEND;TZID=Europe/Berlin:20250716T233000
X-ALT-DESC;FMTTYPE=TEXT/HTML:Absolute Gigant*innen -Turnierserie Gespielt w
 ird auf bis zu 10 Leo Turnier-Tischen. Nach ca. 4 Vorrunden gibt es eine K
 O-Runde in der die Sieger*innen ermittelt werden. Die Eckdaten Wo: FC St. 
 Pauli Clubheim\, Harald-Stender-Platz 1\, 20359 Hamburg Einlass für Verei
 nsmitglieder: 18:00 Uhr Einlass für alle: 19:30 Uhr Beginn: 20 Uhr Turnie
 rbeginn: 20 Uhr Ein Turnier für&amp;hellip\;
CATEGORIES:DYP
URL;VALUE=URI:https://fcstpauli-tischfussball.de/mc-events/absolute-giganti
 nnen-kickerturnier/?mc_id=39
METHOD:PUBLISH
END:VEVENT
END:VCALENDAR