BEGIN:VCALENDAR
VERSION:2.0
PRODID:spatie/icalendar-generator
DESCRIPTION:Veranstaltungen von FC St. Pauli Tischfußball
X-WR-CALDESC:Veranstaltungen von FC St. Pauli Tischfußball
REFRESH-INTERVAL;VALUE=DURATION:PT1440M
X-PUBLISHED-TTL:PT1440M
BEGIN:VTIMEZONE
TZID:Europe/Berlin
BEGIN:STANDARD
DTSTART:20241027T030000Z
TZOFFSETFROM:+0200
TZOFFSETTO:+0100
END:STANDARD
BEGIN:DAYLIGHT
DTSTART:20250330T020000Z
TZOFFSETFROM:+0100
TZOFFSETTO:+0200
END:DAYLIGHT
END:VTIMEZONE
BEGIN:VTIMEZONE
TZID:UTC
BEGIN:STANDARD
DTSTART:20250725T081528Z
TZOFFSETFROM:+0000
TZOFFSETTO:+0000
END:STANDARD
END:VTIMEZONE
BEGIN:VEVENT
UID:13-3
DTSTAMP:20260421T081528Z
SUMMARY:Team-Cup
LOCATION:FC St. Pauli Clubheim Harald-Stender-Platz 1  Hamburg Hamburg 2035
 9
ORGANIZER;CN=FCSP Tischfussball:MAILTO:admin@fctpauli-kickern.de
DTSTART;TZID=Europe/Berlin:20250221T190000
DTEND;TZID=Europe/Berlin:20250221T230000
X-ALT-DESC;FMTTYPE=TEXT/HTML:Modus: Race to 18 mit 2 Doppelsätzen und ein
 em Einzelsatz jeweils bis 6. Ein Timeout pro Satz. Gespielt werden 3-4 Vor
 runden im Schweizer System. Maximal 8 Teams kommen nach der Vorrunde ins P
 rofifeld\, abhängig von der Zahl der teilnehmenden Teams.
CATEGORIES:Vereinsmeisterschaft
URL;VALUE=URI:https://fcstpauli-tischfussball.de/mc-events/team-cup/
METHOD:PUBLISH
END:VEVENT
END:VCALENDAR