BEGIN:VCALENDAR
VERSION:2.0
PRODID:spatie/icalendar-generator
DESCRIPTION:Veranstaltungen von FC St. Pauli Tischfußball
X-WR-CALDESC:Veranstaltungen von FC St. Pauli Tischfußball
REFRESH-INTERVAL;VALUE=DURATION:PT1440M
X-PUBLISHED-TTL:PT1440M
BEGIN:VTIMEZONE
TZID:Europe/Berlin
BEGIN:DAYLIGHT
DTSTART:20250330T020000Z
TZOFFSETFROM:+0100
TZOFFSETTO:+0200
END:DAYLIGHT
BEGIN:STANDARD
DTSTART:20251026T030000Z
TZOFFSETFROM:+0200
TZOFFSETTO:+0100
END:STANDARD
END:VTIMEZONE
BEGIN:VTIMEZONE
TZID:UTC
BEGIN:STANDARD
DTSTART:20250725T081529Z
TZOFFSETFROM:+0000
TZOFFSETTO:+0000
END:STANDARD
END:VTIMEZONE
BEGIN:VEVENT
UID:48-24
DTSTAMP:20260421T081529Z
SUMMARY:Einzel - KiezKickern
LOCATION:FC St. Pauli Clubheim Harald-Stender-Platz 1  Hamburg Hamburg 2035
 9
ORGANIZER;CN=FCSP Tischfussball:MAILTO:admin@fctpauli-kickern.de
DTSTART;TZID=Europe/Berlin:20250801T200000
DTEND;TZID=Europe/Berlin:20250801T230000
X-ALT-DESC;FMTTYPE=TEXT/HTML:<p>Jeden ersten Freitag im Monat richten wir e
 in offenes Einzelturnier aus. </p>\n<p>Gespielt werden 4 Vorrunden und ein
 e anschließende KO-Runde.</p>\n<p>Spielstätte:<br />\nFC St.Pauli Clubhe
 im<br />\nHarald-Stender-Platz 1<br />\n20359 Hamburg</p>\n<p>Einlass für
  Vereinsmitglieder: 18:00 Uhr<br />\nEinlass für alle: 19:30 Uhr<br />\nB
 eginn: 20 Uhr</p>\n<p>Modus: Einzel<br />\nVorrunde: Schweizer-System<br />\nBis zu 10 Leonhart Kickertische</p>\n
CATEGORIES:Einzel - KiezKickern
URL;VALUE=URI:https://fcstpauli-tischfussball.de/mc-events/einzel-kiezkicke
 rn-5/
METHOD:PUBLISH
END:VEVENT
END:VCALENDAR